BEGIN:VCALENDAR
VERSION:2.0
PRODID:-//Tukios.com/
BEGIN:VEVENT
UID:b4873cbf-a0d8-47ea-b68f-2f44d5c8fbbf@www.hamptonfh.com
DTSTAMP:20260422T085601Z
DTSTART:20260216T170000Z
DTEND:20260216T180000Z
SUMMARY:Funeral Service
DESCRIPTION:
URL:https://www.hamptonfh.com/obituaries/joyce-smith-2026
LOCATION:Hampton-Hutton Funeral Home Chapel 2809 South US Hwy. 25E  
	Barbourville KY 40906
GEO:36.8575344;-83.8711883
END:VEVENT
END:VCALENDAR