BEGIN:VCALENDAR
VERSION:2.0
PRODID:-//Tukios.com/
BEGIN:VEVENT
UID:eaa61fa5-3f74-4da3-9dad-f9b625c56287@www.hamptonfh.com
DTSTAMP:20260421T080700Z
DTSTART:20260305T180000Z
DTEND:20260305T190000Z
SUMMARY:Funeral Service
DESCRIPTION:
URL:https://www.hamptonfh.com/obituaries/elizabeth-irene-tadeo
LOCATION:Hampton-Hutton Funeral Home Chapel 2809 South US Hwy. 25E  
	Barbourville KY 40906
GEO:36.8575344;-83.8711883
END:VEVENT
END:VCALENDAR